Workbook

Sheet BWA 01 Jahr
A1: BWA Excel Vorlage – DATEV BWA-Form 01 (Gesamtkostenverfahren)
A2: Kurzfristige Erfolgsrechnung nach § 275 Abs. 2 HGB · blaue Zellen = Eingabe (Beispielwerte Musterunternehmen 2026, Januar = Rechenbeispiel), schwarze Zellen = Formeln
A3: Unternehmen: | B3: Musterunternehmen GmbH (Beispiel) | F3: Geschäftsjahr: | G3: 2026 | I3: Werte in € netto; Kosten positiv erfassen, Bestandsveränderungen mit Vorzeichen.
A5: BWA-Position | B5: Jan | C5: Feb | D5: Mrz | E5: Apr | F5: Mai | G5: Jun | H5: Jul | I5: Aug | J5: Sep | K5: Okt | L5: Nov | M5: Dez | N5: Jahr | O5: % Gesamt- leistung | P5: % Gesamt- kosten
A6: Leistung
A7: Umsatzerlöse | B7: 120000 | C7: 114000 | D7: 126000 | E7: 122400 | F7: 129600 | G7: 132000 | H7: 116400 | I7: 108000 | J7: 127200 | K7: 134400 | L7: 138000 | M7: 144000 | N7: =SUM(B7:M7) -> 1512000 | O7: =IFERROR(N7/N$10,0) -> 0.99637562
A8: Bestandsveränderungen FE/UE | B8: 0 | C8: 1500 | D8: -800 | E8: 0 | F8: 2000 | G8: -1200 | H8: 0 | I8: 3000 | J8: -2500 | K8: 0 | L8: 1800 | M8: -3800 | N8: =SUM(B8:M8) -> 0 | O8: =IFERROR(N8/N$10,0) -> 0
A9: Aktivierte Eigenleistungen | B9: 0 | C9: 0 | D9: 0 | E9: 2500 | F9: 0 | G9: 0 | H9: 0 | I9: 0 | J9: 0 | K9: 3000 | L9: 0 | M9: 0 | N9: =SUM(B9:M9) -> 5500 | O9: =IFERROR(N9/N$10,0) -> 0.0036243822
A10: Gesamtleistung | B10: =B7+B8+B9 -> 120000 | C10: =C7+C8+C9 -> 115500 | D10: =D7+D8+D9 -> 125200 | E10: =E7+E8+E9 -> 124900 | F10: =F7+F8+F9 -> 131600 | G10: =G7+G8+G9 -> 130800 | H10: =H7+H8+H9 -> 116400 | I10: =I7+I8+I9 -> 111000 | ... M10: =M7+M8+M9 -> 140200 | N10: =SUM(B10:M10) -> 1517500 | O10: =IFERROR(N10/N$10,0) -> 1
A11: Material-/Wareneinkauf inkl. Fremdleistungen | B11: 42000 | C11: 39900 | D11: 44100 | E11: 42800 | F11: 45400 | G11: 46200 | H11: 40700 | I11: 37800 | J11: 44500 | K11: 47000 | L11: 48300 | M11: 50400 | N11: =SUM(B11:M11) -> 529100 | O11: =IFERROR(N11/N$10,0) -> 0.34866557
A12: Rohertrag | B12: =B10-B11 -> 78000 | C12: =C10-C11 -> 75600 | D12: =D10-D11 -> 81100 | E12: =E10-E11 -> 82100 | F12: =F10-F11 -> 86200 | G12: =G10-G11 -> 84600 | H12: =H10-H11 -> 75700 | I12: =I10-I11 -> 73200 | ... M12: =M10-M11 -> 89800 | N12: =SUM(B12:M12) -> 988400 | O12: =IFERROR(N12/N$10,0) -> 0.65133443
A13: Sonstige betriebliche Erlöse | B13: 0 | C13: 0 | D13: 600 | E13: 0 | F13: 0 | G13: 400 | H13: 0 | I13: 0 | J13: 0 | K13: 500 | L13: 0 | M13: 900 | N13: =SUM(B13:M13) -> 2400 | O13: =IFERROR(N13/N$10,0) -> 0.0015815486
A14: Betrieblicher Rohertrag | B14: =B12+B13 -> 78000 | C14: =C12+C13 -> 75600 | D14: =D12+D13 -> 81700 | E14: =E12+E13 -> 82100 | F14: =F12+F13 -> 86200 | G14: =G12+G13 -> 85000 | H14: =H12+H13 -> 75700 | I14: =I12+I13 -> 73200 | ... M14: =M12+M13 -> 90700 | N14: =SUM(B14:M14) -> 990800 | O14: =IFERROR(N14/N$10,0) -> 0.65291598
A15: Kostenarten
A16: Personalkosten | B16: 38000 | C16: 38000 | D16: 38000 | E16: 38000 | F16: 38000 | G16: 38000 | H16: 39200 | I16: 39200 | J16: 39200 | K16: 39200 | L16: 39200 | M16: 39200 | N16: =SUM(B16:M16) -> 463200 | O16: =IFERROR(N16/N$10,0) -> 0.30523888 | P16: =IFERROR(N16/N$27,0) -> 0.70277651
A17: Raumkosten | B17: 4500 | C17: 4500 | D17: 4500 | E17: 4500 | F17: 4500 | G17: 4500 | H17: 4500 | I17: 4500 | J17: 4500 | K17: 4500 | L17: 4500 | M17: 4500 | N17: =SUM(B17:M17) -> 54000 | O17: =IFERROR(N17/N$10,0) -> 0.035584843 | P17: =IFERROR(N17/N$27,0) -> 0.081929904
A18: Betriebliche Steuern | B18: 300 | C18: 300 | D18: 300 | E18: 300 | F18: 300 | G18: 300 | H18: 300 | I18: 300 | J18: 300 | K18: 300 | L18: 300 | M18: 300 | N18: =SUM(B18:M18) -> 3600 | O18: =IFERROR(N18/N$10,0) -> 0.0023723229 | P18: =IFERROR(N18/N$27,0) -> 0.0054619936
A19: Versicherungen/Beiträge | B19: 900 | C19: 900 | D19: 900 | E19: 900 | F19: 900 | G19: 900 | H19: 900 | I19: 900 | J19: 900 | K19: 900 | L19: 900 | M19: 900 | N19: =SUM(B19:M19) -> 10800 | O19: =IFERROR(N19/N$10,0) -> 0.0071169687 | P19: =IFERROR(N19/N$27,0) -> 0.016385981
A20: Besondere Kosten | B20: 0 | C20: 0 | D20: 0 | E20: 1200 | F20: 0 | G20: 0 | H20: 0 | I20: 0 | J20: 0 | K20: 1200 | L20: 0 | M20: 0 | N20: =SUM(B20:M20) -> 2400 | O20: =IFERROR(N20/N$10,0) -> 0.0015815486 | P20: =IFERROR(N20/N$27,0) -> 0.0036413291
A21: Fahrzeugkosten (ohne Steuer) | B21: 1800 | C21: 1800 | D21: 1800 | E21: 1800 | F21: 1800 | G21: 1800 | H21: 1800 | I21: 1800 | J21: 1800 | K21: 1800 | L21: 1800 | M21: 1800 | N21: =SUM(B21:M21) -> 21600 | O21: =IFERROR(N21/N$10,0) -> 0.014233937 | P21: =IFERROR(N21/N$27,0) -> 0.032771962
A22: Werbe-/Reisekosten | B22: 2400 | C22: 2300 | D22: 2500 | E22: 2400 | F22: 2600 | G22: 2600 | H22: 2300 | I22: 2200 | J22: 2500 | K22: 2700 | L22: 2800 | M22: 2900 | N22: =SUM(B22:M22) -> 30200 | O22: =IFERROR(N22/N$10,0) -> 0.019901153 | P22: =IFERROR(N22/N$27,0) -> 0.045820058
A23: Kosten der Warenabgabe | B23: 600 | C23: 600 | D23: 600 | E23: 600 | F23: 600 | G23: 700 | H23: 600 | I23: 500 | J23: 600 | K23: 700 | L23: 700 | M23: 700 | N23: =SUM(B23:M23) -> 7500 | O23: =IFERROR(N23/N$10,0) -> 0.0049423394 | P23: =IFERROR(N23/N$27,0) -> 0.011379153
A24: Abschreibungen | B24: 3200 | C24: 3200 | D24: 3200 | E24: 3200 | F24: 3200 | G24: 3200 | H24: 3200 | I24: 3200 | J24: 3200 | K24: 3200 | L24: 3200 | M24: 3200 | N24: =SUM(B24:M24) -> 38400 | O24: =IFERROR(N24/N$10,0) -> 0.025304778 | P24: =IFERROR(N24/N$27,0) -> 0.058261265
A25: Reparatur/Instandhaltung | B25: 700 | C25: 300 | D25: 900 | E25: 400 | F25: 600 | G25: 1500 | H25: 300 | I25: 200 | J25: 800 | K25: 500 | L25: 700 | M25: 1200 | N25: =SUM(B25:M25) -> 8100 | O25: =IFERROR(N25/N$10,0) -> 0.0053377265 | P25: =IFERROR(N25/N$27,0) -> 0.012289486
A26: Sonstige Kosten | B26: 1600 | C26: 1600 | D26: 1600 | E26: 1600 | F26: 1600 | G26: 1600 | H26: 1600 | I26: 1600 | J26: 1600 | K26: 1600 | L26: 1600 | M26: 1700 | N26: =SUM(B26:M26) -> 19300 | O26: =IFERROR(N26/N$10,0) -> 0.012718287 | P26: =IFERROR(N26/N$27,0) -> 0.029282355
A27: Gesamtkosten | B27: =SUM(B16:B26) -> 54000 | C27: =SUM(C16:C26) -> 53500 | D27: =SUM(D16:D26) -> 54300 | E27: =SUM(E16:E26) -> 54900 | F27: =SUM(F16:F26) -> 54100 | G27: =SUM(G16:G26) -> 55100 | H27: =SUM(H16:H26) -> 54700 | I27: =SUM(I16:I26) -> 54400 | ... M27: =SUM(M16:M26) -> 56400 | N27: =SUM(B27:M27) -> 659100 | O27: =IFERROR(N27/N$10,0) -> 0.43433278 | P27: =IFERROR(N27/N$27,0) -> 1
A28: Betriebsergebnis (EBIT) | B28: =B14-B27 -> 24000 | C28: =C14-C27 -> 22100 | D28: =D14-D27 -> 27400 | E28: =E14-E27 -> 27200 | F28: =F14-F27 -> 32100 | G28: =G14-G27 -> 29900 | H28: =H14-H27 -> 21000 | I28: =I14-I27 -> 18800 | ... M28: =M14-M27 -> 34300 | N28: =SUM(B28:M28) -> 331700 | O28: =IFERROR(N28/N$10,0) -> 0.2185832
A29: Neutrales Ergebnis
A30: Zinsaufwand | B30: 1100 | C30: 1100 | D30: 1100 | E30: 1100 | F30: 1100 | G30: 1100 | H30: 1050 | I30: 1050 | J30: 1050 | K30: 1050 | L30: 1050 | M30: 1050 | N30: =SUM(B30:M30) -> 12900 | O30: =IFERROR(N30/N$10,0) -> 0.0085008237
A31: Sonstiger neutraler Aufwand | B31: 0 | C31: 0 | D31: 0 | E31: 0 | F31: 0 | G31: 0 | H31: 0 | I31: 0 | J31: 0 | K31: 0 | L31: 0 | M31: 0 | N31: =SUM(B31:M31) -> 0 | O31: =IFERROR(N31/N$10,0) -> 0
A32: Neutraler Aufwand | B32: =B30+B31 -> 1100 | C32: =C30+C31 -> 1100 | D32: =D30+D31 -> 1100 | E32: =E30+E31 -> 1100 | F32: =F30+F31 -> 1100 | G32: =G30+G31 -> 1100 | H32: =H30+H31 -> 1050 | I32: =I30+I31 -> 1050 | ... M32: =M30+M31 -> 1050 | N32: =SUM(B32:M32) -> 12900 | O32: =IFERROR(N32/N$10,0) -> 0.0085008237
A33: Zinserträge | B33: 0 | C33: 0 | D33: 150 | E33: 0 | F33: 0 | G33: 150 | H33: 0 | I33: 0 | J33: 150 | K33: 0 | L33: 0 | M33: 150 | N33: =SUM(B33:M33) -> 600 | O33: =IFERROR(N33/N$10,0) -> 0.00039538715
A34: Sonstiger neutraler Ertrag | B34: 0 | C34: 0 | D34: 0 | E34: 0 | F34: 0 | G34: 0 | H34: 1800 | I34: 0 | J34: 0 | K34: 0 | L34: 0 | M34: 0 | N34: =SUM(B34:M34) -> 1800 | O34: =IFERROR(N34/N$10,0) -> 0.0011861614
A35: Verrechnete kalkulatorische Kosten | B35: 0 | C35: 0 | D35: 0 | E35: 0 | F35: 0 | G35: 0 | H35: 0 | I35: 0 | J35: 0 | K35: 0 | L35: 0 | M35: 0 | N35: =SUM(B35:M35) -> 0 | O35: =IFERROR(N35/N$10,0) -> 0
A36: Neutraler Ertrag | B36: =B33+B34+B35 -> 0 | C36: =C33+C34+C35 -> 0 | D36: =D33+D34+D35 -> 150 | E36: =E33+E34+E35 -> 0 | F36: =F33+F34+F35 -> 0 | G36: =G33+G34+G35 -> 150 | H36: =H33+H34+H35 -> 1800 | I36: =I33+I34+I35 -> 0 | ... M36: =M33+M34+M35 -> 150 | N36: =SUM(B36:M36) -> 2400 | O36: =IFERROR(N36/N$10,0) -> 0.0015815486
A37: Neutrales Ergebnis | B37: =B36-B32 -> -1100 | C37: =C36-C32 -> -1100 | D37: =D36-D32 -> -950 | E37: =E36-E32 -> -1100 | F37: =F36-F32 -> -1100 | G37: =G36-G32 -> -950 | H37: =H36-H32 -> 750 | I37: =I36-I32 -> -1050 | ... M37: =M36-M32 -> -900 | N37: =SUM(B37:M37) -> -10500 | O37: =IFERROR(N37/N$10,0) -> -0.0069192751
A38: Ergebnis vor Steuern (EBT) | B38: =B28+B37 -> 22900 | C38: =C28+C37 -> 21000 | D38: =D28+D37 -> 26450 | E38: =E28+E37 -> 26100 | F38: =F28+F37 -> 31000 | G38: =G28+G37 -> 28950 | H38: =H28+H37 -> 21750 | I38: =I28+I37 -> 17750 | ... M38: =M28+M37 -> 33400 | N38: =SUM(B38:M38) -> 321200 | O38: =IFERROR(N38/N$10,0) -> 0.21166392
A39: Steuern vom Einkommen und Ertrag | B39: 0 | C39: 0 | D39: 0 | E39: 0 | F39: 0 | G39: 0 | H39: 0 | I39: 0 | J39: 0 | K39: 0 | L39: 0 | M39: 0 | N39: =SUM(B39:M39) -> 0 | O39: =IFERROR(N39/N$10,0) -> 0
A40: Vorläufiges Ergebnis | B40: =B38-B39 -> 22900 | C40: =C38-C39 -> 21000 | D40: =D38-D39 -> 26450 | E40: =E38-E39 -> 26100 | F40: =F38-F39 -> 31000 | G40: =G38-G39 -> 28950 | H40: =H38-H39 -> 21750 | I40: =I38-I39 -> 17750 | ... M40: =M38-M39 -> 33400 | N40: =SUM(B40:M40) -> 321200 | O40: =IFERROR(N40/N$10,0) -> 0.21166392
A42: Kennzahlen
...

Sheet BWA Monat
A1: BWA Monatsauswertung – Monat, kumuliert, Plan und Vorjahr
A2: Monat im blauen Feld wählen. Plan und Vorjahr werden aus dem Tab „Soll-Ist & Vorjahr“ zeitanteilig (Jahreswert / 12 × Monate) angesetzt.
A3: Auswertungsmonat: | B3: Juni | C3: =MATCH(B3,Listen!$A$2:$A$13,0) -> 6 | D3: ="BWA "&B3&" "&'BWA 01 Jahr'!G3 -> BWA Juni 2026
A5: BWA-Position | B5: Monat | C5: % Gesamt- leistung | D5: % Gesamt- kosten | E5: Jahr kumuliert (bis Monat) | F5: % Gesamt- leistung kum. | G5: Plan kumuliert (anteilig) | H5: Abweichung zum Plan | I5: Abw. % zum Plan | J5: Vorjahr kum. (anteilig) | K5: Abw. % zum Vorjahr
A6: Leistung
A7: Umsatzerlöse | B7: =INDEX('BWA 01 Jahr'!$B7:$M7,$C$3) -> 132000 | C7: =IFERROR(B7/B$10,0) -> 1.0091743 | E7: =SUMPRODUCT((COLUMN('BWA 01 Jahr'!$B7:$M7)-1<=$C$3)*'BWA 01 Jahr'!$B7:$M7) -> 744000 | F7: =IFERROR(E7/E$10,0) -> 0.99465241 | G7: ='Soll-Ist & Vorjahr'!B7/12*$C$3 -> 778500 | H7: =E7-G7 -> -34500 | I7: =IFERROR(H7/ABS(G7),0) -> -0.044315992 | J7: ='Soll-Ist & Vorjahr'!C7/12*$C$3 -> 695500 | K7: =IFERROR((E7-J7)/ABS(J7),0) -> 0.069734004
A8: Bestandsveränderungen FE/UE | B8: =INDEX('BWA 01 Jahr'!$B8:$M8,$C$3) -> -1200 | C8: =IFERROR(B8/B$10,0) -> -0.0091743119 | E8: =SUMPRODUCT((COLUMN('BWA 01 Jahr'!$B8:$M8)-1<=$C$3)*'BWA 01 Jahr'!$B8:$M8) -> 1500 | F8: =IFERROR(E8/E$10,0) -> 0.0020053476 | G8: ='Soll-Ist & Vorjahr'!B8/12*$C$3 -> 0 | H8: =E8-G8 -> 1500 | I8: =IFERROR(H8/ABS(G8),0) -> 0 | J8: ='Soll-Ist & Vorjahr'!C8/12*$C$3 -> -1000 | K8: =IFERROR((E8-J8)/ABS(J8),0) -> 2.5
A9: Aktivierte Eigenleistungen | B9: =INDEX('BWA 01 Jahr'!$B9:$M9,$C$3) -> 0 | C9: =IFERROR(B9/B$10,0) -> 0 | E9: =SUMPRODUCT((COLUMN('BWA 01 Jahr'!$B9:$M9)-1<=$C$3)*'BWA 01 Jahr'!$B9:$M9) -> 2500 | F9: =IFERROR(E9/E$10,0) -> 0.003342246 | G9: ='Soll-Ist & Vorjahr'!B9/12*$C$3 -> 3000 | H9: =E9-G9 -> -500 | I9: =IFERROR(H9/ABS(G9),0) -> -0.16666667 | J9: ='Soll-Ist & Vorjahr'!C9/12*$C$3 -> 2500 | K9: =IFERROR((E9-J9)/ABS(J9),0) -> 0
A10: Gesamtleistung | B10: =INDEX('BWA 01 Jahr'!$B10:$M10,$C$3) -> 130800 | C10: =IFERROR(B10/B$10,0) -> 1 | E10: =SUMPRODUCT((COLUMN('BWA 01 Jahr'!$B10:$M10)-1<=$C$3)*'BWA 01 Jahr'!$B10:$M10) -> 748000 | F10: =IFERROR(E10/E$10,0) -> 1 | G10: ='Soll-Ist & Vorjahr'!B10/12*$C$3 -> 781500 | H10: =E10-G10 -> -33500 | I10: =IFERROR(H10/ABS(G10),0) -> -0.042866283 | J10: ='Soll-Ist & Vorjahr'!C10/12*$C$3 -> 697000 | K10: =IFERROR((E10-J10)/ABS(J10),0) -> 0.073170732
A11: Material-/Wareneinkauf inkl. Fremdleistungen | B11: =INDEX('BWA 01 Jahr'!$B11:$M11,$C$3) -> 46200 | C11: =IFERROR(B11/B$10,0) -> 0.35321101 | E11: =SUMPRODUCT((COLUMN('BWA 01 Jahr'!$B11:$M11)-1<=$C$3)*'BWA 01 Jahr'!$B11:$M11) -> 260400 | F11: =IFERROR(E11/E$10,0) -> 0.34812834 | G11: ='Soll-Ist & Vorjahr'!B11/12*$C$3 -> 256500 | H11: =E11-G11 -> 3900 | I11: =IFERROR(H11/ABS(G11),0) -> 0.015204678 | J11: ='Soll-Ist & Vorjahr'!C11/12*$C$3 -> 251500 | K11: =IFERROR((E11-J11)/ABS(J11),0) -> 0.035387674
A12: Rohertrag | B12: =INDEX('BWA 01 Jahr'!$B12:$M12,$C$3) -> 84600 | C12: =IFERROR(B12/B$10,0) -> 0.64678899 | E12: =SUMPRODUCT((COLUMN('BWA 01 Jahr'!$B12:$M12)-1<=$C$3)*'BWA 01 Jahr'!$B12:$M12) -> 487600 | F12: =IFERROR(E12/E$10,0) -> 0.65187166 | G12: ='Soll-Ist & Vorjahr'!B12/12*$C$3 -> 525000 | H12: =E12-G12 -> -37400 | I12: =IFERROR(H12/ABS(G12),0) -> -0.071238095 | J12: ='Soll-Ist & Vorjahr'!C12/12*$C$3 -> 445500 | K12: =IFERROR((E12-J12)/ABS(J12),0) -> 0.094500561
A13: Sonstige betriebliche Erlöse | B13: =INDEX('BWA 01 Jahr'!$B13:$M13,$C$3) -> 400 | C13: =IFERROR(B13/B$10,0) -> 0.003058104 | E13: =SUMPRODUCT((COLUMN('BWA 01 Jahr'!$B13:$M13)-1<=$C$3)*'BWA 01 Jahr'!$B13:$M13) -> 1000 | F13: =IFERROR(E13/E$10,0) -> 0.0013368984 | G13: ='Soll-Ist & Vorjahr'!B13/12*$C$3 -> 1000 | H13: =E13-G13 -> 0 | I13: =IFERROR(H13/ABS(G13),0) -> 0 | J13: ='Soll-Ist & Vorjahr'!C13/12*$C$3 -> 1000 | K13: =IFERROR((E13-J13)/ABS(J13),0) -> 0
A14: Betrieblicher Rohertrag | B14: =INDEX('BWA 01 Jahr'!$B14:$M14,$C$3) -> 85000 | C14: =IFERROR(B14/B$10,0) -> 0.64984709 | E14: =SUMPRODUCT((COLUMN('BWA 01 Jahr'!$B14:$M14)-1<=$C$3)*'BWA 01 Jahr'!$B14:$M14) -> 488600 | F14: =IFERROR(E14/E$10,0) -> 0.65320856 | G14: ='Soll-Ist & Vorjahr'!B14/12*$C$3 -> 526000 | H14: =E14-G14 -> -37400 | I14: =IFERROR(H14/ABS(G14),0) -> -0.071102662 | J14: ='Soll-Ist & Vorjahr'!C14/12*$C$3 -> 446500 | K14: =IFERROR((E14-J14)/ABS(J14),0) -> 0.094288914
A15: Kostenarten
A16: Personalkosten | B16: =INDEX('BWA 01 Jahr'!$B16:$M16,$C$3) -> 38000 | C16: =IFERROR(B16/B$10,0) -> 0.29051988 | D16: =IFERROR(B16/B$27,0) -> 0.68965517 | E16: =SUMPRODUCT((COLUMN('BWA 01 Jahr'!$B16:$M16)-1<=$C$3)*'BWA 01 Jahr'!$B16:$M16) -> 228000 | F16: =IFERROR(E16/E$10,0) -> 0.30481283 | G16: ='Soll-Ist & Vorjahr'!B16/12*$C$3 -> 224500 | H16: =E16-G16 -> 3500 | I16: =IFERROR(H16/ABS(G16),0) -> 0.0155902 | J16: ='Soll-Ist & Vorjahr'!C16/12*$C$3 -> 220000 | K16: =IFERROR((E16-J16)/ABS(J16),0) -> 0.036363636
A17: Raumkosten | B17: =INDEX('BWA 01 Jahr'!$B17:$M17,$C$3) -> 4500 | C17: =IFERROR(B17/B$10,0) -> 0.03440367 | D17: =IFERROR(B17/B$27,0) -> 0.081669691 | E17: =SUMPRODUCT((COLUMN('BWA 01 Jahr'!$B17:$M17)-1<=$C$3)*'BWA 01 Jahr'!$B17:$M17) -> 27000 | F17: =IFERROR(E17/E$10,0) -> 0.036096257 | G17: ='Soll-Ist & Vorjahr'!B17/12*$C$3 -> 26000 | H17: =E17-G17 -> 1000 | I17: =IFERROR(H17/ABS(G17),0) -> 0.038461538 | J17: ='Soll-Ist & Vorjahr'!C17/12*$C$3 -> 25500 | K17: =IFERROR((E17-J17)/ABS(J17),0) -> 0.058823529
A18: Betriebliche Steuern | B18: =INDEX('BWA 01 Jahr'!$B18:$M18,$C$3) -> 300 | C18: =IFERROR(B18/B$10,0) -> 0.002293578 | D18: =IFERROR(B18/B$27,0) -> 0.0054446461 | E18: =SUMPRODUCT((COLUMN('BWA 01 Jahr'!$B18:$M18)-1<=$C$3)*'BWA 01 Jahr'!$B18:$M18) -> 1800 | F18: =IFERROR(E18/E$10,0) -> 0.0024064171 | G18: ='Soll-Ist & Vorjahr'!B18/12*$C$3 -> 1500 | H18: =E18-G18 -> 300 | I18: =IFERROR(H18/ABS(G18),0) -> 0.2 | J18: ='Soll-Ist & Vorjahr'!C18/12*$C$3 -> 1500 | K18: =IFERROR((E18-J18)/ABS(J18),0) -> 0.2
A19: Versicherungen/Beiträge | B19: =INDEX('BWA 01 Jahr'!$B19:$M19,$C$3) -> 900 | C19: =IFERROR(B19/B$10,0) -> 0.0068807339 | D19: =IFERROR(B19/B$27,0) -> 0.016333938 | E19: =SUMPRODUCT((COLUMN('BWA 01 Jahr'!$B19:$M19)-1<=$C$3)*'BWA 01 Jahr'!$B19:$M19) -> 5400 | F19: =IFERROR(E19/E$10,0) -> 0.0072192513 | G19: ='Soll-Ist & Vorjahr'!B19/12*$C$3 -> 5000 | H19: =E19-G19 -> 400 | I19: =IFERROR(H19/ABS(G19),0) -> 0.08 | J19: ='Soll-Ist & Vorjahr'!C19/12*$C$3 -> 5000 | K19: =IFERROR((E19-J19)/ABS(J19),0) -> 0.08
A20: Besondere Kosten | B20: =INDEX('BWA 01 Jahr'!$B20:$M20,$C$3) -> 0 | C20: =IFERROR(B20/B$10,0) -> 0 | D20: =IFERROR(B20/B$27,0) -> 0 | E20: =SUMPRODUCT((COLUMN('BWA 01 Jahr'!$B20:$M20)-1<=$C$3)*'BWA 01 Jahr'!$B20:$M20) -> 1200 | F20: =IFERROR(E20/E$10,0) -> 0.0016042781 | G20: ='Soll-Ist & Vorjahr'!B20/12*$C$3 -> 1000 | H20: =E20-G20 -> 200 | I20: =IFERROR(H20/ABS(G20),0) -> 0.2 | J20: ='Soll-Ist & Vorjahr'!C20/12*$C$3 -> 1000 | K20: =IFERROR((E20-J20)/ABS(J20),0) -> 0.2
A21: Fahrzeugkosten (ohne Steuer) | B21: =INDEX('BWA 01 Jahr'!$B21:$M21,$C$3) -> 1800 | C21: =IFERROR(B21/B$10,0) -> 0.013761468 | D21: =IFERROR(B21/B$27,0) -> 0.032667877 | E21: =SUMPRODUCT((COLUMN('BWA 01 Jahr'!$B21:$M21)-1<=$C$3)*'BWA 01 Jahr'!$B21:$M21) -> 10800 | F21: =IFERROR(E21/E$10,0) -> 0.014438503 | G21: ='Soll-Ist & Vorjahr'!B21/12*$C$3 -> 10500 | H21: =E21-G21 -> 300 | I21: =IFERROR(H21/ABS(G21),0) -> 0.028571429 | J21: ='Soll-Ist & Vorjahr'!C21/12*$C$3 -> 10500 | K21: =IFERROR((E21-J21)/ABS(J21),0) -> 0.028571429
A22: Werbe-/Reisekosten | B22: =INDEX('BWA 01 Jahr'!$B22:$M22,$C$3) -> 2600 | C22: =IFERROR(B22/B$10,0) -> 0.019877676 | D22: =IFERROR(B22/B$27,0) -> 0.047186933 | E22: =SUMPRODUCT((COLUMN('BWA 01 Jahr'!$B22:$M22)-1<=$C$3)*'BWA 01 Jahr'!$B22:$M22) -> 14800 | F22: =IFERROR(E22/E$10,0) -> 0.019786096 | G22: ='Soll-Ist & Vorjahr'!B22/12*$C$3 -> 14500 | H22: =E22-G22 -> 300 | I22: =IFERROR(H22/ABS(G22),0) -> 0.020689655 | J22: ='Soll-Ist & Vorjahr'!C22/12*$C$3 -> 14500 | K22: =IFERROR((E22-J22)/ABS(J22),0) -> 0.020689655
A23: Kosten der Warenabgabe | B23: =INDEX('BWA 01 Jahr'!$B23:$M23,$C$3) -> 700 | C23: =IFERROR(B23/B$10,0) -> 0.005351682 | D23: =IFERROR(B23/B$27,0) -> 0.012704174 | E23: =SUMPRODUCT((COLUMN('BWA 01 Jahr'!$B23:$M23)-1<=$C$3)*'BWA 01 Jahr'!$B23:$M23) -> 3700 | F23: =IFERROR(E23/E$10,0) -> 0.0049465241 | G23: ='Soll-Ist & Vorjahr'!B23/12*$C$3 -> 3500 | H23: =E23-G23 -> 200 | I23: =IFERROR(H23/ABS(G23),0) -> 0.057142857 | J23: ='Soll-Ist & Vorjahr'!C23/12*$C$3 -> 3500 | K23: =IFERROR((E23-J23)/ABS(J23),0) -> 0.057142857
A24: Abschreibungen | B24: =INDEX('BWA 01 Jahr'!$B24:$M24,$C$3) -> 3200 | C24: =IFERROR(B24/B$10,0) -> 0.024464832 | D24: =IFERROR(B24/B$27,0) -> 0.058076225 | E24: =SUMPRODUCT((COLUMN('BWA 01 Jahr'!$B24:$M24)-1<=$C$3)*'BWA 01 Jahr'!$B24:$M24) -> 19200 | F24: =IFERROR(E24/E$10,0) -> 0.025668449 | G24: ='Soll-Ist & Vorjahr'!B24/12*$C$3 -> 18500 | H24: =E24-G24 -> 700 | I24: =IFERROR(H24/ABS(G24),0) -> 0.037837838 | J24: ='Soll-Ist & Vorjahr'!C24/12*$C$3 -> 18000 | K24: =IFERROR((E24-J24)/ABS(J24),0) -> 0.066666667
A25: Reparatur/Instandhaltung | B25: =INDEX('BWA 01 Jahr'!$B25:$M25,$C$3) -> 1500 | C25: =IFERROR(B25/B$10,0) -> 0.01146789 | D25: =IFERROR(B25/B$27,0) -> 0.02722323 | E25: =SUMPRODUCT((COLUMN('BWA 01 Jahr'!$B25:$M25)-1<=$C$3)*'BWA 01 Jahr'!$B25:$M25) -> 4400 | F25: =IFERROR(E25/E$10,0) -> 0.0058823529 | G25: ='Soll-Ist & Vorjahr'!B25/12*$C$3 -> 4000 | H25: =E25-G25 -> 400 | I25: =IFERROR(H25/ABS(G25),0) -> 0.1 | J25: ='Soll-Ist & Vorjahr'!C25/12*$C$3 -> 4000 | K25: =IFERROR((E25-J25)/ABS(J25),0) -> 0.1
A26: Sonstige Kosten | B26: =INDEX('BWA 01 Jahr'!$B26:$M26,$C$3) -> 1600 | C26: =IFERROR(B26/B$10,0) -> 0.012232416 | D26: =IFERROR(B26/B$27,0) -> 0.029038113 | E26: =SUMPRODUCT((COLUMN('BWA 01 Jahr'!$B26:$M26)-1<=$C$3)*'BWA 01 Jahr'!$B26:$M26) -> 9600 | F26: =IFERROR(E26/E$10,0) -> 0.012834225 | G26: ='Soll-Ist & Vorjahr'!B26/12*$C$3 -> 9500 | H26: =E26-G26 -> 100 | I26: =IFERROR(H26/ABS(G26),0) -> 0.010526316 | J26: ='Soll-Ist & Vorjahr'!C26/12*$C$3 -> 9000 | K26: =IFERROR((E26-J26)/ABS(J26),0) -> 0.066666667
A27: Gesamtkosten | B27: =INDEX('BWA 01 Jahr'!$B27:$M27,$C$3) -> 55100 | C27: =IFERROR(B27/B$10,0) -> 0.42125382 | D27: =IFERROR(B27/B$27,0) -> 1 | E27: =SUMPRODUCT((COLUMN('BWA 01 Jahr'!$B27:$M27)-1<=$C$3)*'BWA 01 Jahr'!$B27:$M27) -> 325900 | F27: =IFERROR(E27/E$10,0) -> 0.43569519 | G27: ='Soll-Ist & Vorjahr'!B27/12*$C$3 -> 318500 | H27: =E27-G27 -> 7400 | I27: =IFERROR(H27/ABS(G27),0) -> 0.023233909 | J27: ='Soll-Ist & Vorjahr'!C27/12*$C$3 -> 312500 | K27: =IFERROR((E27-J27)/ABS(J27),0) -> 0.04288
A28: Betriebsergebnis (EBIT) | B28: =INDEX('BWA 01 Jahr'!$B28:$M28,$C$3) -> 29900 | C28: =IFERROR(B28/B$10,0) -> 0.22859327 | E28: =SUMPRODUCT((COLUMN('BWA 01 Jahr'!$B28:$M28)-1<=$C$3)*'BWA 01 Jahr'!$B28:$M28) -> 162700 | F28: =IFERROR(E28/E$10,0) -> 0.21751337 | G28: ='Soll-Ist & Vorjahr'!B28/12*$C$3 -> 207500 | H28: =E28-G28 -> -44800 | I28: =IFERROR(H28/ABS(G28),0) -> -0.21590361 | J28: ='Soll-Ist & Vorjahr'!C28/12*$C$3 -> 134000 | K28: =IFERROR((E28-J28)/ABS(J28),0) -> 0.2141791
A29: Neutrales Ergebnis
A30: Zinsaufwand | B30: =INDEX('BWA 01 Jahr'!$B30:$M30,$C$3) -> 1100 | C30: =IFERROR(B30/B$10,0) -> 0.0084097859 | E30: =SUMPRODUCT((COLUMN('BWA 01 Jahr'!$B30:$M30)-1<=$C$3)*'BWA 01 Jahr'!$B30:$M30) -> 6600 | F30: =IFERROR(E30/E$10,0) -> 0.0088235294 | G30: ='Soll-Ist & Vorjahr'!B30/12*$C$3 -> 6500 | H30: =E30-G30 -> 100 | I30: =IFERROR(H30/ABS(G30),0) -> 0.015384615 | J30: ='Soll-Ist & Vorjahr'!C30/12*$C$3 -> 6000 | K30: =IFERROR((E30-J30)/ABS(J30),0) -> 0.1
A31: Sonstiger neutraler Aufwand | B31: =INDEX('BWA 01 Jahr'!$B31:$M31,$C$3) -> 0 | C31: =IFERROR(B31/B$10,0) -> 0 | E31: =SUMPRODUCT((COLUMN('BWA 01 Jahr'!$B31:$M31)-1<=$C$3)*'BWA 01 Jahr'!$B31:$M31) -> 0 | F31: =IFERROR(E31/E$10,0) -> 0 | G31: ='Soll-Ist & Vorjahr'!B31/12*$C$3 -> 0 | H31: =E31-G31 -> 0 | I31: =IFERROR(H31/ABS(G31),0) -> 0 | J31: ='Soll-Ist & Vorjahr'!C31/12*$C$3 -> 0 | K31: =IFERROR((E31-J31)/ABS(J31),0) -> 0
A32: Neutraler Aufwand | B32: =INDEX('BWA 01 Jahr'!$B32:$M32,$C$3) -> 1100 | C32: =IFERROR(B32/B$10,0) -> 0.0084097859 | E32: =SUMPRODUCT((COLUMN('BWA 01 Jahr'!$B32:$M32)-1<=$C$3)*'BWA 01 Jahr'!$B32:$M32) -> 6600 | F32: =IFERROR(E32/E$10,0) -> 0.0088235294 | G32: ='Soll-Ist & Vorjahr'!B32/12*$C$3 -> 6500 | H32: =E32-G32 -> 100 | I32: =IFERROR(H32/ABS(G32),0) -> 0.015384615 | J32: ='Soll-Ist & Vorjahr'!C32/12*$C$3 -> 6000 | K32: =IFERROR((E32-J32)/ABS(J32),0) -> 0.1
A33: Zinserträge | B33: =INDEX('BWA 01 Jahr'!$B33:$M33,$C$3) -> 150 | C33: =IFERROR(B33/B$10,0) -> 0.001146789 | E33: =SUMPRODUCT((COLUMN('BWA 01 Jahr'!$B33:$M33)-1<=$C$3)*'BWA 01 Jahr'!$B33:$M33) -> 300 | F33: =IFERROR(E33/E$10,0) -> 0.00040106952 | G33: ='Soll-Ist & Vorjahr'!B33/12*$C$3 -> 500 | H33: =E33-G33 -> -200 | I33: =IFERROR(H33/ABS(G33),0) -> -0.4 | J33: ='Soll-Ist & Vorjahr'!C33/12*$C$3 -> 500 | K33: =IFERROR((E33-J33)/ABS(J33),0) -> -0.4
A34: Sonstiger neutraler Ertrag | B34: =INDEX('BWA 01 Jahr'!$B34:$M34,$C$3) -> 0 | C34: =IFERROR(B34/B$10,0) -> 0 | E34: =SUMPRODUCT((COLUMN('BWA 01 Jahr'!$B34:$M34)-1<=$C$3)*'BWA 01 Jahr'!$B34:$M34) -> 0 | F34: =IFERROR(E34/E$10,0) -> 0 | G34: ='Soll-Ist & Vorjahr'!B34/12*$C$3 -> 1000 | H34: =E34-G34 -> -1000 | I34: =IFERROR(H34/ABS(G34),0) -> -1 | J34: ='Soll-Ist & Vorjahr'!C34/12*$C$3 -> 1000 | K34: =IFERROR((E34-J34)/ABS(J34),0) -> -1
A35: Verrechnete kalkulatorische Kosten | B35: =INDEX('BWA 01 Jahr'!$B35:$M35,$C$3) -> 0 | C35: =IFERROR(B35/B$10,0) -> 0 | E35: =SUMPRODUCT((COLUMN('BWA 01 Jahr'!$B35:$M35)-1<=$C$3)*'BWA 01 Jahr'!$B35:$M35) -> 0 | F35: =IFERROR(E35/E$10,0) -> 0 | G35: ='Soll-Ist & Vorjahr'!B35/12*$C$3 -> 0 | H35: =E35-G35 -> 0 | I35: =IFERROR(H35/ABS(G35),0) -> 0 | J35: ='Soll-Ist & Vorjahr'!C35/12*$C$3 -> 0 | K35: =IFERROR((E35-J35)/ABS(J35),0) -> 0
A36: Neutraler Ertrag | B36: =INDEX('BWA 01 Jahr'!$B36:$M36,$C$3) -> 150 | C36: =IFERROR(B36/B$10,0) -> 0.001146789 | E36: =SUMPRODUCT((COLUMN('BWA 01 Jahr'!$B36:$M36)-1<=$C$3)*'BWA 01 Jahr'!$B36:$M36) -> 300 | F36: =IFERROR(E36/E$10,0) -> 0.00040106952 | G36: ='Soll-Ist & Vorjahr'!B36/12*$C$3 -> 1500 | H36: =E36-G36 -> -1200 | I36: =IFERROR(H36/ABS(G36),0) -> -0.8 | J36: ='Soll-Ist & Vorjahr'!C36/12*$C$3 -> 1500 | K36: =IFERROR((E36-J36)/ABS(J36),0) -> -0.8
A37: Neutrales Ergebnis | B37: =INDEX('BWA 01 Jahr'!$B37:$M37,$C$3) -> -950 | C37: =IFERROR(B37/B$10,0) -> -0.0072629969 | E37: =SUMPRODUCT((COLUMN('BWA 01 Jahr'!$B37:$M37)-1<=$C$3)*'BWA 01 Jahr'!$B37:$M37) -> -6300 | F37: =IFERROR(E37/E$10,0) -> -0.0084224599 | G37: ='Soll-Ist & Vorjahr'!B37/12*$C$3 -> -5000 | H37: =E37-G37 -> -1300 | I37: =IFERROR(H37/ABS(G37),0) -> -0.26 | J37: ='Soll-Ist & Vorjahr'!C37/12*$C$3 -> -4500 | K37: =IFERROR((E37-J37)/ABS(J37),0) -> -0.4
A38: Ergebnis vor Steuern (EBT) | B38: =INDEX('BWA 01 Jahr'!$B38:$M38,$C$3) -> 28950 | C38: =IFERROR(B38/B$10,0) -> 0.22133028 | E38: =SUMPRODUCT((COLUMN('BWA 01 Jahr'!$B38:$M38)-1<=$C$3)*'BWA 01 Jahr'!$B38:$M38) -> 156400 | F38: =IFERROR(E38/E$10,0) -> 0.20909091 | G38: ='Soll-Ist & Vorjahr'!B38/12*$C$3 -> 202500 | H38: =E38-G38 -> -46100 | I38: =IFERROR(H38/ABS(G38),0) -> -0.22765432 | J38: ='Soll-Ist & Vorjahr'!C38/12*$C$3 -> 129500 | K38: =IFERROR((E38-J38)/ABS(J38),0) -> 0.20772201
A39: Steuern vom Einkommen und Ertrag | B39: =INDEX('BWA 01 Jahr'!$B39:$M39,$C$3) -> 0 | C39: =IFERROR(B39/B$10,0) -> 0 | E39: =SUMPRODUCT((COLUMN('BWA 01 Jahr'!$B39:$M39)-1<=$C$3)*'BWA 01 Jahr'!$B39:$M39) -> 0 | F39: =IFERROR(E39/E$10,0) -> 0 | G39: ='Soll-Ist & Vorjahr'!B39/12*$C$3 -> 0 | H39: =E39-G39 -> 0 | I39: =IFERROR(H39/ABS(G39),0) -> 0 | J39: ='Soll-Ist & Vorjahr'!C39/12*$C$3 -> 0 | K39: =IFERROR((E39-J39)/ABS(J39),0) -> 0
A40: Vorläufiges Ergebnis | B40: =INDEX('BWA 01 Jahr'!$B40:$M40,$C$3) -> 28950 | C40: =IFERROR(B40/B$10,0) -> 0.22133028 | E40: =SUMPRODUCT((COLUMN('BWA 01 Jahr'!$B40:$M40)-1<=$C$3)*'BWA 01 Jahr'!$B40:$M40) -> 156400 | F40: =IFERROR(E40/E$10,0) -> 0.20909091 | G40: ='Soll-Ist & Vorjahr'!B40/12*$C$3 -> 202500 | H40: =E40-G40 -> -46100 | I40: =IFERROR(H40/ABS(G40),0) -> -0.22765432 | J40: ='Soll-Ist & Vorjahr'!C40/12*$C$3 -> 129500 | K40: =IFERROR((E40-J40)/ABS(J40),0) -> 0.20772201
A42: Rot = Kosten mehr als 5 % über Plan bzw. Erlöse/Ergebnisse mehr als 5 % unter Plan; grün = im oder besser als Plan.

Sheet Dashboard
A1: BWA-Dashboard – Jahresüberblick
A2: Alle Werte per Formel aus „BWA 01 Jahr“ (Beispielwerte Musterunternehmen 2026).
A4: Umsatzerlöse Jahr | C4: Rohertrag Jahr | E4: Rohertragsmarge | G4: Betriebsergebnis (EBIT) | I4: Operative Umsatzrendite | K4: Vorläufiges Ergebnis
A5: ='BWA 01 Jahr'!N7 -> 1512000 | C5: ='BWA 01 Jahr'!N12 -> 988400 | E5: =IFERROR('BWA 01 Jahr'!N12/'BWA 01 Jahr'!N10,0) -> 0.65133443 | G5: ='BWA 01 Jahr'!N28 -> 331700 | I5: =IFERROR('BWA 01 Jahr'!N28/'BWA 01 Jahr'!N7,0) -> 0.21937831 | K5: ='BWA 01 Jahr'!N40 -> 321200
A7: Summe Jan–Dez | C7: Summe Jan–Dez | E7: Jahreswert | G7: Summe Jan–Dez | I7: Jahreswert | K7: Summe Jan–Dez
A9: Monatsentwicklung
A10: Monat | B10: Umsatz | C10: Rohertrag | D10: Rohertrags- marge | E10: Gesamt- kosten | F10: EBIT | G10: EBIT-Marge | H10: Vorläufiges Ergebnis | I10: Ergebnis kumuliert | J10: Personal- quote
A11: Januar | B11: ='BWA 01 Jahr'!B7 -> 120000 | C11: ='BWA 01 Jahr'!B12 -> 78000 | D11: =IFERROR(C11/'BWA 01 Jahr'!B10,0) -> 0.65 | E11: ='BWA 01 Jahr'!B27 -> 54000 | F11: ='BWA 01 Jahr'!B28 -> 24000 | G11: =IFERROR(F11/B11,0) -> 0.2 | H11: ='BWA 01 Jahr'!B40 -> 22900 | I11: =SUM($H$11:H11) -> 22900 | J11: =IFERROR('BWA 01 Jahr'!B16/'BWA 01 Jahr'!B10,0) -> 0.31666667
A12: Februar | B12: ='BWA 01 Jahr'!C7 -> 114000 | C12: ='BWA 01 Jahr'!C12 -> 75600 | D12: =IFERROR(C12/'BWA 01 Jahr'!C10,0) -> 0.65454545 | E12: ='BWA 01 Jahr'!C27 -> 53500 | F12: ='BWA 01 Jahr'!C28 -> 22100 | G12: =IFERROR(F12/B12,0) -> 0.19385965 | H12: ='BWA 01 Jahr'!C40 -> 21000 | I12: =SUM($H$11:H12) -> 43900 | J12: =IFERROR('BWA 01 Jahr'!C16/'BWA 01 Jahr'!C10,0) -> 0.32900433
A13: März | B13: ='BWA 01 Jahr'!D7 -> 126000 | C13: ='BWA 01 Jahr'!D12 -> 81100 | D13: =IFERROR(C13/'BWA 01 Jahr'!D10,0) -> 0.64776358 | E13: ='BWA 01 Jahr'!D27 -> 54300 | F13: ='BWA 01 Jahr'!D28 -> 27400 | G13: =IFERROR(F13/B13,0) -> 0.21746032 | H13: ='BWA 01 Jahr'!D40 -> 26450 | I13: =SUM($H$11:H13) -> 70350 | J13: =IFERROR('BWA 01 Jahr'!D16/'BWA 01 Jahr'!D10,0) -> 0.30351438
A14: April | B14: ='BWA 01 Jahr'!E7 -> 122400 | C14: ='BWA 01 Jahr'!E12 -> 82100 | D14: =IFERROR(C14/'BWA 01 Jahr'!E10,0) -> 0.65732586 | E14: ='BWA 01 Jahr'!E27 -> 54900 | F14: ='BWA 01 Jahr'!E28 -> 27200 | G14: =IFERROR(F14/B14,0) -> 0.22222222 | H14: ='BWA 01 Jahr'!E40 -> 26100 | I14: =SUM($H$11:H14) -> 96450 | J14: =IFERROR('BWA 01 Jahr'!E16/'BWA 01 Jahr'!E10,0) -> 0.30424339
A15: Mai | B15: ='BWA 01 Jahr'!F7 -> 129600 | C15: ='BWA 01 Jahr'!F12 -> 86200 | D15: =IFERROR(C15/'BWA 01 Jahr'!F10,0) -> 0.6550152 | E15: ='BWA 01 Jahr'!F27 -> 54100 | F15: ='BWA 01 Jahr'!F28 -> 32100 | G15: =IFERROR(F15/B15,0) -> 0.24768519 | H15: ='BWA 01 Jahr'!F40 -> 31000 | I15: =SUM($H$11:H15) -> 127450 | J15: =IFERROR('BWA 01 Jahr'!F16/'BWA 01 Jahr'!F10,0) -> 0.2887538
A16: Juni | B16: ='BWA 01 Jahr'!G7 -> 132000 | C16: ='BWA 01 Jahr'!G12 -> 84600 | D16: =IFERROR(C16/'BWA 01 Jahr'!G10,0) -> 0.64678899 | E16: ='BWA 01 Jahr'!G27 -> 55100 | F16: ='BWA 01 Jahr'!G28 -> 29900 | G16: =IFERROR(F16/B16,0) -> 0.22651515 | H16: ='BWA 01 Jahr'!G40 -> 28950 | I16: =SUM($H$11:H16) -> 156400 | J16: =IFERROR('BWA 01 Jahr'!G16/'BWA 01 Jahr'!G10,0) -> 0.29051988
A17: Juli | B17: ='BWA 01 Jahr'!H7 -> 116400 | C17: ='BWA 01 Jahr'!H12 -> 75700 | D17: =IFERROR(C17/'BWA 01 Jahr'!H10,0) -> 0.65034364 | E17: ='BWA 01 Jahr'!H27 -> 54700 | F17: ='BWA 01 Jahr'!H28 -> 21000 | G17: =IFERROR(F17/B17,0) -> 0.18041237 | H17: ='BWA 01 Jahr'!H40 -> 21750 | I17: =SUM($H$11:H17) -> 178150 | J17: =IFERROR('BWA 01 Jahr'!H16/'BWA 01 Jahr'!H10,0) -> 0.33676976
A18: August | B18: ='BWA 01 Jahr'!I7 -> 108000 | C18: ='BWA 01 Jahr'!I12 -> 73200 | D18: =IFERROR(C18/'BWA 01 Jahr'!I10,0) -> 0.65945946 | E18: ='BWA 01 Jahr'!I27 -> 54400 | F18: ='BWA 01 Jahr'!I28 -> 18800 | G18: =IFERROR(F18/B18,0) -> 0.17407407 | H18: ='BWA 01 Jahr'!I40 -> 17750 | I18: =SUM($H$11:H18) -> 195900 | J18: =IFERROR('BWA 01 Jahr'!I16/'BWA 01 Jahr'!I10,0) -> 0.35315315
A19: September | B19: ='BWA 01 Jahr'!J7 -> 127200 | C19: ='BWA 01 Jahr'!J12 -> 80200 | D19: =IFERROR(C19/'BWA 01 Jahr'!J10,0) -> 0.64314354 | E19: ='BWA 01 Jahr'!J27 -> 55400 | F19: ='BWA 01 Jahr'!J28 -> 24800 | G19: =IFERROR(F19/B19,0) -> 0.19496855 | H19: ='BWA 01 Jahr'!J40 -> 23900 | I19: =SUM($H$11:H19) -> 219800 | J19: =IFERROR('BWA 01 Jahr'!J16/'BWA 01 Jahr'!J10,0) -> 0.31435445
A20: Oktober | B20: ='BWA 01 Jahr'!K7 -> 134400 | C20: ='BWA 01 Jahr'!K12 -> 90400 | D20: =IFERROR(C20/'BWA 01 Jahr'!K10,0) -> 0.65793304 | E20: ='BWA 01 Jahr'!K27 -> 56600 | F20: ='BWA 01 Jahr'!K28 -> 34300 | G20: =IFERROR(F20/B20,0) -> 0.25520833 | H20: ='BWA 01 Jahr'!K40 -> 33250 | I20: =SUM($H$11:H20) -> 253050 | J20: =IFERROR('BWA 01 Jahr'!K16/'BWA 01 Jahr'!K10,0) -> 0.2852984
A21: November | B21: ='BWA 01 Jahr'!L7 -> 138000 | C21: ='BWA 01 Jahr'!L12 -> 91500 | D21: =IFERROR(C21/'BWA 01 Jahr'!L10,0) -> 0.65450644 | E21: ='BWA 01 Jahr'!L27 -> 55700 | F21: ='BWA 01 Jahr'!L28 -> 35800 | G21: =IFERROR(F21/B21,0) -> 0.25942029 | H21: ='BWA 01 Jahr'!L40 -> 34750 | I21: =SUM($H$11:H21) -> 287800 | J21: =IFERROR('BWA 01 Jahr'!L16/'BWA 01 Jahr'!L10,0) -> 0.28040057
A22: Dezember | B22: ='BWA 01 Jahr'!M7 -> 144000 | C22: ='BWA 01 Jahr'!M12 -> 89800 | D22: =IFERROR(C22/'BWA 01 Jahr'!M10,0) -> 0.64051355 | E22: ='BWA 01 Jahr'!M27 -> 56400 | F22: ='BWA 01 Jahr'!M28 -> 34300 | G22: =IFERROR(F22/B22,0) -> 0.23819444 | H22: ='BWA 01 Jahr'!M40 -> 33400 | I22: =SUM($H$11:H22) -> 321200 | J22: =IFERROR('BWA 01 Jahr'!M16/'BWA 01 Jahr'!M10,0) -> 0.27960057
A23: Jahr | B23: =SUM(B11:B22) -> 1512000 | C23: =SUM(C11:C22) -> 988400 | D23: =IFERROR(C23/'BWA 01 Jahr'!N10,0) -> 0.65133443 | E23: =SUM(E11:E22) -> 659100 | F23: =SUM(F11:F22) -> 331700 | G23: =IFERROR(F23/B23,0) -> 0.21937831 | H23: =SUM(H11:H22) -> 321200 | I23: =I22 -> 321200 | J23: =IFERROR('BWA 01 Jahr'!N16/'BWA 01 Jahr'!N10,0) -> 0.30523888
A25: Pfeile EBIT-Marge: grün ≥ 20 %, gelb 15–20 %, rot < 15 % · Personalquote > 35 % gelb markiert · negatives Ergebnis rot.

Sheet Soll-Ist & Vorjahr
A1: Soll-Ist-Abgleich und Vorjahresvergleich (Jahreswerte)
A2: Plan (Wirtschaftsplan) und Vorjahr als Jahreswerte in die blauen Zellen eintragen – Beispielwerte. Ist-Werte kommen aus „BWA 01 Jahr“.
A5: BWA-Position | B5: Plan Jahr (Soll) | C5: Vorjahr (Ist) | D5: Ist Jahr (aktuell) | E5: Abweichung Ist – Plan | F5: Abw. % zum Plan | G5: Abweichung Ist – Vorjahr | H5: Abw. % zum Vorjahr | I5: Bewertung zum Plan
A6: Leistung
A7: Umsatzerlöse | B7: 1557000 | C7: 1391000 | D7: ='BWA 01 Jahr'!N7 -> 1512000 | E7: =D7-B7 -> -45000 | F7: =IFERROR(E7/ABS(B7),0) -> -0.028901734 | G7: =D7-C7 -> 121000 | H7: =IFERROR(G7/ABS(C7),0) -> 0.086987779 | I7: =IF(B7=0,"–",IF(E7>=0,"im Plan",IF(ABS(F7)<=0.05,"leicht abweichend","kritisch"))) -> leicht abweichend
A8: Bestandsveränderungen FE/UE | B8: 0 | C8: -2000 | D8: ='BWA 01 Jahr'!N8 -> 0 | E8: =D8-B8 -> 0 | F8: =IFERROR(E8/ABS(B8),0) -> 0 | G8: =D8-C8 -> 2000 | H8: =IFERROR(G8/ABS(C8),0) -> 1 | I8: =IF(B8=0,"–",IF(E8>=0,"im Plan",IF(ABS(F8)<=0.05,"leicht abweichend","kritisch"))) -> –
A9: Aktivierte Eigenleistungen | B9: 6000 | C9: 5000 | D9: ='BWA 01 Jahr'!N9 -> 5500 | E9: =D9-B9 -> -500 | F9: =IFERROR(E9/ABS(B9),0) -> -0.083333333 | G9: =D9-C9 -> 500 | H9: =IFERROR(G9/ABS(C9),0) -> 0.1 | I9: =IF(B9=0,"–",IF(E9>=0,"im Plan",IF(ABS(F9)<=0.05,"leicht abweichend","kritisch"))) -> kritisch
A10: Gesamtleistung | B10: =B7+B8+B9 -> 1563000 | C10: =C7+C8+C9 -> 1394000 | D10: ='BWA 01 Jahr'!N10 -> 1517500 | E10: =D10-B10 -> -45500 | F10: =IFERROR(E10/ABS(B10),0) -> -0.029110685 | G10: =D10-C10 -> 123500 | H10: =IFERROR(G10/ABS(C10),0) -> 0.088593974 | I10: =IF(B10=0,"–",IF(E10>=0,"im Plan",IF(ABS(F10)<=0.05,"leicht abweichend","kritisch"))) -> leicht abweichend
A11: Material-/Wareneinkauf inkl. Fremdleistungen | B11: 513000 | C11: 503000 | D11: ='BWA 01 Jahr'!N11 -> 529100 | E11: =D11-B11 -> 16100 | F11: =IFERROR(E11/ABS(B11),0) -> 0.031384016 | G11: =D11-C11 -> 26100 | H11: =IFERROR(G11/ABS(C11),0) -> 0.051888668 | I11: =IF(B11=0,"–",IF(E11<=0,"im Plan",IF(ABS(F11)<=0.05,"leicht abweichend","kritisch"))) -> leicht abweichend
A12: Rohertrag | B12: =B10-B11 -> 1050000 | C12: =C10-C11 -> 891000 | D12: ='BWA 01 Jahr'!N12 -> 988400 | E12: =D12-B12 -> -61600 | F12: =IFERROR(E12/ABS(B12),0) -> -0.058666667 | G12: =D12-C12 -> 97400 | H12: =IFERROR(G12/ABS(C12),0) -> 0.10931538 | I12: =IF(B12=0,"–",IF(E12>=0,"im Plan",IF(ABS(F12)<=0.05,"leicht abweichend","kritisch"))) -> kritisch
A13: Sonstige betriebliche Erlöse | B13: 2000 | C13: 2000 | D13: ='BWA 01 Jahr'!N13 -> 2400 | E13: =D13-B13 -> 400 | F13: =IFERROR(E13/ABS(B13),0) -> 0.2 | G13: =D13-C13 -> 400 | H13: =IFERROR(G13/ABS(C13),0) -> 0.2 | I13: =IF(B13=0,"–",IF(E13>=0,"im Plan",IF(ABS(F13)<=0.05,"leicht abweichend","kritisch"))) -> im Plan
A14: Betrieblicher Rohertrag | B14: =B12+B13 -> 1052000 | C14: =C12+C13 -> 893000 | D14: ='BWA 01 Jahr'!N14 -> 990800 | E14: =D14-B14 -> -61200 | F14: =IFERROR(E14/ABS(B14),0) -> -0.058174905 | G14: =D14-C14 -> 97800 | H14: =IFERROR(G14/ABS(C14),0) -> 0.10951848 | I14: =IF(B14=0,"–",IF(E14>=0,"im Plan",IF(ABS(F14)<=0.05,"leicht abweichend","kritisch"))) -> kritisch
A15: Kostenarten
A16: Personalkosten | B16: 449000 | C16: 440000 | D16: ='BWA 01 Jahr'!N16 -> 463200 | E16: =D16-B16 -> 14200 | F16: =IFERROR(E16/ABS(B16),0) -> 0.031625835 | G16: =D16-C16 -> 23200 | H16: =IFERROR(G16/ABS(C16),0) -> 0.052727273 | I16: =IF(B16=0,"–",IF(E16<=0,"im Plan",IF(ABS(F16)<=0.05,"leicht abweichend","kritisch"))) -> leicht abweichend
A17: Raumkosten | B17: 52000 | C17: 51000 | D17: ='BWA 01 Jahr'!N17 -> 54000 | E17: =D17-B17 -> 2000 | F17: =IFERROR(E17/ABS(B17),0) -> 0.038461538 | G17: =D17-C17 -> 3000 | H17: =IFERROR(G17/ABS(C17),0) -> 0.058823529 | I17: =IF(B17=0,"–",IF(E17<=0,"im Plan",IF(ABS(F17)<=0.05,"leicht abweichend","kritisch"))) -> leicht abweichend
A18: Betriebliche Steuern | B18: 3000 | C18: 3000 | D18: ='BWA 01 Jahr'!N18 -> 3600 | E18: =D18-B18 -> 600 | F18: =IFERROR(E18/ABS(B18),0) -> 0.2 | G18: =D18-C18 -> 600 | H18: =IFERROR(G18/ABS(C18),0) -> 0.2 | I18: =IF(B18=0,"–",IF(E18<=0,"im Plan",IF(ABS(F18)<=0.05,"leicht abweichend","kritisch"))) -> kritisch
A19: Versicherungen/Beiträge | B19: 10000 | C19: 10000 | D19: ='BWA 01 Jahr'!N19 -> 10800 | E19: =D19-B19 -> 800 | F19: =IFERROR(E19/ABS(B19),0) -> 0.08 | G19: =D19-C19 -> 800 | H19: =IFERROR(G19/ABS(C19),0) -> 0.08 | I19: =IF(B19=0,"–",IF(E19<=0,"im Plan",IF(ABS(F19)<=0.05,"leicht abweichend","kritisch"))) -> kritisch
A20: Besondere Kosten | B20: 2000 | C20: 2000 | D20: ='BWA 01 Jahr'!N20 -> 2400 | E20: =D20-B20 -> 400 | F20: =IFERROR(E20/ABS(B20),0) -> 0.2 | G20: =D20-C20 -> 400 | H20: =IFERROR(G20/ABS(C20),0) -> 0.2 | I20: =IF(B20=0,"–",IF(E20<=0,"im Plan",IF(ABS(F20)<=0.05,"leicht abweichend","kritisch"))) -> kritisch
A21: Fahrzeugkosten (ohne Steuer) | B21: 21000 | C21: 21000 | D21: ='BWA 01 Jahr'!N21 -> 21600 | E21: =D21-B21 -> 600 | F21: =IFERROR(E21/ABS(B21),0) -> 0.028571429 | G21: =D21-C21 -> 600 | H21: =IFERROR(G21/ABS(C21),0) -> 0.028571429 | I21: =IF(B21=0,"–",IF(E21<=0,"im Plan",IF(ABS(F21)<=0.05,"leicht abweichend","kritisch"))) -> leicht abweichend
A22: Werbe-/Reisekosten | B22: 29000 | C22: 29000 | D22: ='BWA 01 Jahr'!N22 -> 30200 | E22: =D22-B22 -> 1200 | F22: =IFERROR(E22/ABS(B22),0) -> 0.04137931 | G22: =D22-C22 -> 1200 | H22: =IFERROR(G22/ABS(C22),0) -> 0.04137931 | I22: =IF(B22=0,"–",IF(E22<=0,"im Plan",IF(ABS(F22)<=0.05,"leicht abweichend","kritisch"))) -> leicht abweichend
A23: Kosten der Warenabgabe | B23: 7000 | C23: 7000 | D23: ='BWA 01 Jahr'!N23 -> 7500 | E23: =D23-B23 -> 500 | F23: =IFERROR(E23/ABS(B23),0) -> 0.071428571 | G23: =D23-C23 -> 500 | H23: =IFERROR(G23/ABS(C23),0) -> 0.071428571 | I23: =IF(B23=0,"–",IF(E23<=0,"im Plan",IF(ABS(F23)<=0.05,"leicht abweichend","kritisch"))) -> kritisch
A24: Abschreibungen | B24: 37000 | C24: 36000 | D24: ='BWA 01 Jahr'!N24 -> 38400 | E24: =D24-B24 -> 1400 | F24: =IFERROR(E24/ABS(B24),0) -> 0.037837838 | G24: =D24-C24 -> 2400 | H24: =IFERROR(G24/ABS(C24),0) -> 0.066666667 | I24: =IF(B24=0,"–",IF(E24<=0,"im Plan",IF(ABS(F24)<=0.05,"leicht abweichend","kritisch"))) -> leicht abweichend
A25: Reparatur/Instandhaltung | B25: 8000 | C25: 8000 | D25: ='BWA 01 Jahr'!N25 -> 8100 | E25: =D25-B25 -> 100 | F25: =IFERROR(E25/ABS(B25),0) -> 0.0125 | G25: =D25-C25 -> 100 | H25: =IFERROR(G25/ABS(C25),0) -> 0.0125 | I25: =IF(B25=0,"–",IF(E25<=0,"im Plan",IF(ABS(F25)<=0.05,"leicht abweichend","kritisch"))) -> leicht abweichend
A26: Sonstige Kosten | B26: 19000 | C26: 18000 | D26: ='BWA 01 Jahr'!N26 -> 19300 | E26: =D26-B26 -> 300 | F26: =IFERROR(E26/ABS(B26),0) -> 0.015789474 | G26: =D26-C26 -> 1300 | H26: =IFERROR(G26/ABS(C26),0) -> 0.072222222 | I26: =IF(B26=0,"–",IF(E26<=0,"im Plan",IF(ABS(F26)<=0.05,"leicht abweichend","kritisch"))) -> leicht abweichend
A27: Gesamtkosten | B27: =SUM(B16:B26) -> 637000 | C27: =SUM(C16:C26) -> 625000 | D27: ='BWA 01 Jahr'!N27 -> 659100 | E27: =D27-B27 -> 22100 | F27: =IFERROR(E27/ABS(B27),0) -> 0.034693878 | G27: =D27-C27 -> 34100 | H27: =IFERROR(G27/ABS(C27),0) -> 0.05456 | I27: =IF(B27=0,"–",IF(E27<=0,"im Plan",IF(ABS(F27)<=0.05,"leicht abweichend","kritisch"))) -> leicht abweichend
A28: Betriebsergebnis (EBIT) | B28: =B14-B27 -> 415000 | C28: =C14-C27 -> 268000 | D28: ='BWA 01 Jahr'!N28 -> 331700 | E28: =D28-B28 -> -83300 | F28: =IFERROR(E28/ABS(B28),0) -> -0.20072289 | G28: =D28-C28 -> 63700 | H28: =IFERROR(G28/ABS(C28),0) -> 0.23768657 | I28: =IF(B28=0,"–",IF(E28>=0,"im Plan",IF(ABS(F28)<=0.05,"leicht abweichend","kritisch"))) -> kritisch
A29: Neutrales Ergebnis
A30: Zinsaufwand | B30: 13000 | C30: 12000 | D30: ='BWA 01 Jahr'!N30 -> 12900 | E30: =D30-B30 -> -100 | F30: =IFERROR(E30/ABS(B30),0) -> -0.0076923077 | G30: =D30-C30 -> 900 | H30: =IFERROR(G30/ABS(C30),0) -> 0.075 | I30: =IF(B30=0,"–",IF(E30<=0,"im Plan",IF(ABS(F30)<=0.05,"leicht abweichend","kritisch"))) -> im Plan
A31: Sonstiger neutraler Aufwand | B31: 0 | C31: 0 | D31: ='BWA 01 Jahr'!N31 -> 0 | E31: =D31-B31 -> 0 | F31: =IFERROR(E31/ABS(B31),0) -> 0 | G31: =D31-C31 -> 0 | H31: =IFERROR(G31/ABS(C31),0) -> 0 | I31: =IF(B31=0,"–",IF(E31<=0,"im Plan",IF(ABS(F31)<=0.05,"leicht abweichend","kritisch"))) -> –
A32: Neutraler Aufwand | B32: =B30+B31 -> 13000 | C32: =C30+C31 -> 12000 | D32: ='BWA 01 Jahr'!N32 -> 12900 | E32: =D32-B32 -> -100 | F32: =IFERROR(E32/ABS(B32),0) -> -0.0076923077 | G32: =D32-C32 -> 900 | H32: =IFERROR(G32/ABS(C32),0) -> 0.075 | I32: =IF(B32=0,"–",IF(E32<=0,"im Plan",IF(ABS(F32)<=0.05,"leicht abweichend","kritisch"))) -> im Plan
A33: Zinserträge | B33: 1000 | C33: 1000 | D33: ='BWA 01 Jahr'!N33 -> 600 | E33: =D33-B33 -> -400 | F33: =IFERROR(E33/ABS(B33),0) -> -0.4 | G33: =D33-C33 -> -400 | H33: =IFERROR(G33/ABS(C33),0) -> -0.4 | I33: =IF(B33=0,"–",IF(E33>=0,"im Plan",IF(ABS(F33)<=0.05,"leicht abweichend","kritisch"))) -> kritisch
A34: Sonstiger neutraler Ertrag | B34: 2000 | C34: 2000 | D34: ='BWA 01 Jahr'!N34 -> 1800 | E34: =D34-B34 -> -200 | F34: =IFERROR(E34/ABS(B34),0) -> -0.1 | G34: =D34-C34 -> -200 | H34: =IFERROR(G34/ABS(C34),0) -> -0.1 | I34: =IF(B34=0,"–",IF(E34>=0,"im Plan",IF(ABS(F34)<=0.05,"leicht abweichend","kritisch"))) -> kritisch
A35: Verrechnete kalkulatorische Kosten | B35: 0 | C35: 0 | D35: ='BWA 01 Jahr'!N35 -> 0 | E35: =D35-B35 -> 0 | F35: =IFERROR(E35/ABS(B35),0) -> 0 | G35: =D35-C35 -> 0 | H35: =IFERROR(G35/ABS(C35),0) -> 0 | I35: =IF(B35=0,"–",IF(E35>=0,"im Plan",IF(ABS(F35)<=0.05,"leicht abweichend","kritisch"))) -> –
A36: Neutraler Ertrag | B36: =B33+B34+B35 -> 3000 | C36: =C33+C34+C35 -> 3000 | D36: ='BWA 01 Jahr'!N36 -> 2400 | E36: =D36-B36 -> -600 | F36: =IFERROR(E36/ABS(B36),0) -> -0.2 | G36: =D36-C36 -> -600 | H36: =IFERROR(G36/ABS(C36),0) -> -0.2 | I36: =IF(B36=0,"–",IF(E36>=0,"im Plan",IF(ABS(F36)<=0.05,"leicht abweichend","kritisch"))) -> kritisch
A37: Neutrales Ergebnis | B37: =B36-B32 -> -10000 | C37: =C36-C32 -> -9000 | D37: ='BWA 01 Jahr'!N37 -> -10500 | E37: =D37-B37 -> -500 | F37: =IFERROR(E37/ABS(B37),0) -> -0.05 | G37: =D37-C37 -> -1500 | H37: =IFERROR(G37/ABS(C37),0) -> -0.16666667 | I37: =IF(B37=0,"–",IF(E37>=0,"im Plan",IF(ABS(F37)<=0.05,"leicht abweichend","kritisch"))) -> leicht abweichend
A38: Ergebnis vor Steuern (EBT) | B38: =B28+B37 -> 405000 | C38: =C28+C37 -> 259000 | D38: ='BWA 01 Jahr'!N38 -> 321200 | E38: =D38-B38 -> -83800 | F38: =IFERROR(E38/ABS(B38),0) -> -0.20691358 | G38: =D38-C38 -> 62200 | H38: =IFERROR(G38/ABS(C38),0) -> 0.24015444 | I38: =IF(B38=0,"–",IF(E38>=0,"im Plan",IF(ABS(F38)<=0.05,"leicht abweichend","kritisch"))) -> kritisch
A39: Steuern vom Einkommen und Ertrag | B39: 0 | C39: 0 | D39: ='BWA 01 Jahr'!N39 -> 0 | E39: =D39-B39 -> 0 | F39: =IFERROR(E39/ABS(B39),0) -> 0 | G39: =D39-C39 -> 0 | H39: =IFERROR(G39/ABS(C39),0) -> 0 | I39: =IF(B39=0,"–",IF(E39<=0,"im Plan",IF(ABS(F39)<=0.05,"leicht abweichend","kritisch"))) -> –
A40: Vorläufiges Ergebnis | B40: =B38-B39 -> 405000 | C40: =C38-C39 -> 259000 | D40: ='BWA 01 Jahr'!N40 -> 321200 | E40: =D40-B40 -> -83800 | F40: =IFERROR(E40/ABS(B40),0) -> -0.20691358 | G40: =D40-C40 -> 62200 | H40: =IFERROR(G40/ABS(C40),0) -> 0.24015444 | I40: =IF(B40=0,"–",IF(E40>=0,"im Plan",IF(ABS(F40)<=0.05,"leicht abweichend","kritisch"))) -> kritisch
A42: Bewertung: Kosten gelten als „im Plan“, wenn Ist ≤ Plan; Erlöse und Ergebnisse, wenn Ist ≥ Plan. „leicht abweichend“ = bis 5 %.

Sheet Rechner
A1: Rechner: BWA-Schnellrechner, Kennzahlen und Monatsabgrenzung
A2: Blaue Felder überschreiben – Ergebnisse werden per Formel berechnet (Beispielwerte aus dem Rechenbeispiel).
A4: 1 BWA-Schnellrechner (Monat oder Quartal)
A5: Umsatzerlöse | B5: 120000 | C5: Beispielwert
A6: Bestandsveränderung (±) | B6: 0
A7: Aktivierte Eigenleistungen | B7: 0
A8: Wareneinsatz & Fremdleistungen | B8: 42000
A9: Personalkosten | B9: 38000
A10: Raumkosten | B10: 4500
A11: Abschreibungen / AfA | B11: 3200
A12: Sonstige Betriebskosten | B12: 8300
A13: Zinsaufwand (Finanzergebnis) | B13: 1100
A14: Zinserträge / neutrale Erträge | B14: 0
A15: Gesamtleistung | B15: =B5+B6+B7 -> 120000 | C15: Umsatz ± Bestandsveränderung + aktivierte Eigenleistungen
A16: Rohertrag | B16: =B15-B8 -> 78000 | C16: Gesamtleistung – Wareneinsatz
A17: Rohertragsmarge | B17: =IFERROR(B16/B15,0) -> 0.65 | C17: Rohertrag / Gesamtleistung
A18: Betriebliche Gesamtkosten | B18: =SUM(B9:B12) -> 54000 | C18: Personal + Raum + AfA + Sonstige
A19: Betriebsergebnis (EBIT) | B19: =B16-B18 -> 24000 | C19: Rohertrag – Gesamtkosten
A20: Operative Umsatzrendite | B20: =IFERROR(B19/B5,0) -> 0.2 | C20: EBIT / Umsatzerlöse
A21: EBIT-Marge vom Rohertrag | B21: =IFERROR(B19/B16,0) -> 0.30769231 | C21: EBIT / Rohertrag
A22: Neutrales Ergebnis | B22: =B14-B13 -> -1100 | C22: Finanzertrag – Finanzaufwand
A23: Vorläufiges Ergebnis (EBT) | B23: =B19+B22 -> 22900 | C23: EBIT ± Neutrales Ergebnis
A25: 2 Die 6 wichtigsten BWA-Kennzahlen
A26: Eigenkapital | B26: 180000 | C26: Beispielwert – aus Bilanz/BWA übernehmen
A27: Gesamtkapital (Bilanzsumme) | B27: 600000
A28: Gewinn (Jahresergebnis) | B28: 274800
A29: Zinsaufwand p. a. | B29: 13000
A30: Umsatz p. a. | B30: 1500000
A31: Cash-Flow p. a. (Gewinn + AfA) | B31: 313200
A32: Schulden (Fremdkapital) | B32: 420000
A33: Rohertrag p. a. | B33: 975000
A34: Eigenkapitalquote | B34: =IFERROR(B26/B27,0) -> 0.3 | C34: =IF(B34<0.1,"unter 10 % = Insolvenzgefahr",IF(B34>=0.3,"über 30 % = stabil","ausbaufähig")) -> über 30 % = stabil
A35: Umsatzrendite (ROS) | B35: =IFERROR(B28/B30,0) -> 0.1832 | C35: ="Gewinn je Euro Umsatz – je höher, desto besser" -> Gewinn je Euro Umsatz – je höher, desto besser
A36: Gesamtkapitalrentabilität (ROI) | B36: =IFERROR((B28+B29)/B27,0) -> 0.47966667 | C36: ="(Gewinn + Zinsen) / Gesamtkapital – je höher, desto effizienter" -> (Gewinn + Zinsen) / Gesamtkapital – je höher, desto effizienter
A37: Cash-Flow-Rate | B37: =IFERROR(B31/B30,0) -> 0.2088 | C37: ="Cash-Flow / Umsatz – höher = krisenfester" -> Cash-Flow / Umsatz – höher = krisenfester
A38: Rohertragsmarge | B38: =IFERROR(B33/B30,0) -> 0.65 | C38: ="Rohertrag / Umsatz – wichtig für Preiskalkulation" -> Rohertrag / Umsatz – wichtig für Preiskalkulation
A39: Entschuldungsdauer (Jahre) | B39: =IFERROR(B32/B31,0) -> 1.3409962 | C39: =IF(B39=0,"–",IF(B39<5,"unter 5 Jahre = gut","5 Jahre oder mehr = kritisch prüfen")) -> unter 5 Jahre = gut
A41: 3 Monatliche Abgrenzung (1/12 des Jahreswerts)
A42: Position | B42: Jahreswert | C42: Monatswert (Formel) · BWA-Zeile
A43: Abschreibungen auf Anlagegüter (AfA) | B43: 38400 | C43: =TEXT(B43/12,"#.##0 €")&" → Abschreibungen" -> 3.200 € → Abschreibungen
...

Sheet Anleitung
A1: Anleitung und Hintergrund zur BWA Excel Vorlage
A4: Tabellenblätter und Bedienung
A5: Tabellenblatt | B5: Zweck | C5: So nutzen Sie es
A6: BWA 01 Jahr | B6: Vollständige DATEV-Standard-BWA Form 01 mit 12 Monaten, Jahressumme, %-Anteil an Gesamtleistung und Gesamtkosten sowie Kennzahlen. | C6: Blaue Zellen mit Kontensalden aus der Summen- und Saldenliste (SuSa) je Monat füllen. Summenzeilen rechnen automatisch.
A7: BWA Monat | B7: DATEV-typische Monatsauswertung: Monatswert, Jahr kumuliert, Plan und Vorjahr zeitanteilig mit Abweichungen. | C7: Monat in Zelle B3 per Drop-down wählen. Rot = kritische Abweichung, grün = im Plan.
A8: Dashboard | B8: KPI-Kacheln (Umsatz, Rohertrag, Marge, EBIT, Rendite, Ergebnis) und Monatstabelle mit Datenbalken, Farbskala und Symbolen. | C8: Nur Anzeige – alle Werte kommen per Formel aus „BWA 01 Jahr“.
A9: Soll-Ist & Vorjahr | B9: Jahresvergleich Ist gegen Wirtschaftsplan (Soll) und Vorjahr mit Bewertung. | C9: Plan- und Vorjahreswerte als Jahreswerte in die blauen Zellen eintragen.
A10: Rechner | B10: 1) BWA-Schnellrechner wie auf der Webseite inkl. EBT, 2) die 6 wichtigsten Kennzahlen mit Bewertung, 3) 1/12-Abgrenzung von AfA und Rückstellungen. | C10: Blaue Felder überschreiben; Monatswerte der Abgrenzung in die BWA übernehmen.
A11: Anleitung | B11: Diese Übersicht mit Aufbau, Formeln, Rechenbeispiel, typischen Fehlern und FAQ. | C11: Zum Nachschlagen.
A13: Aufbau der Standard-BWA (DATEV BWA-Form 01)
A14: BWA-Zeile / Stufe | B14: Zusammensetzung & Bedeutung | C14: Rechnerische Herleitung
A15: 1. Umsatzerlöse | B15: Nettoumsätze aus Lieferungen und Leistungen des Kerngeschäfts | C15: Erlöskonten (netto)
A16: 2. Gesamtleistung | B16: Umsatz korrigiert um Bestandsveränderungen und aktivierte Eigenleistungen | C16: Umsatz ± Bestandsveränderung + aktivierte Eigenleistungen
A17: 3. Materialaufwand / Wareneinsatz | B17: Direkte Kosten für Roh-, Hilfs- und Betriebsstoffe sowie bezogene Fremdleistungen | C17: Wareneingang + Fremdleistungen
A18: 4. Rohertrag | B18: Wertschöpfung nach Abzug aller direkten Leistungskosten | C18: Gesamtleistung – Wareneinsatz
A19: 5. Gesamtkosten | B19: Summe der betrieblichen Gemeinkosten (Personal, Raum, Abschreibungen, sonstige Kosten) | C19: Summe der Gemeinkostenarten
A20: 6. Betriebsergebnis (EBIT) | B20: Operatives Ergebnis vor Zinsen, Finanzaufwand und Steuern | C20: Rohertrag – Gesamtkosten
A21: 7. Neutrales Ergebnis | B21: Zinsaufwendungen, Zinserträge und betriebsfremde Erträge/Aufwendungen | C21: Finanzertrag – Finanzaufwand
A22: 8. Vorläufiges Ergebnis (EBT) | B22: Ergebnis vor Ertragsteuern | C22: EBIT ± Neutrales Ergebnis
A24: Kanonisches Rechenbeispiel (Musterunternehmen 2026) – entspricht Januar in „BWA 01 Jahr“
A25: Größe | B25: Wert / Rechnung | C25: Ergebnis
A26: Umsatzerlöse | B26: Bestandsveränderung 0,00 € | C26: 120.000,00 €
A27: Wareneinsatz & Fremdleistungen | C27: 42.000,00 €
A28: Rohertrag | B28: 120.000 € – 42.000 € | C28: 78.000,00 €
A29: Gesamtkosten | B29: Personal 38.000 + Raum 4.500 + AfA 3.200 + Sonstige 8.300 | C29: 54.000,00 €
A30: Betriebsergebnis (EBIT) | B30: 78.000 € – 54.000 € | C30: 24.000,00 €
A31: Vorläufiges Ergebnis (EBT) | B31: 24.000 € – Zinsaufwand 1.100 € | C31: 22.900,00 €
A32: Kennzahlen | B32: Rohertragsmarge 65,0 % · operative Umsatzrendite 20,0 % · EBIT vom Rohertrag 30,8 %
A34: Monatliche Pflege – Schritt für Schritt
A35: Schritt | B35: Vorgehen
A36: 1. Rohdaten abstimmen | B36: Summen- und Saldenliste (SuSa) aus der Buchhaltung übernehmen oder aggregierte Kontensalden eintragen.
A37: 2. Periodenabgrenzungen | B37: Abschreibungen und Rückstellungen nicht erst zum Jahresende, sondern als Monatswert (1/12 des Jahreswerts) erfassen – Tab „Rechner“, Block 3.
A38: 3. Soll-Ist-Abgleich | B38: Ist-Werte mit dem freigegebenen Wirtschaftsplan vergleichen – Tabs „Soll-Ist & Vorjahr“ und „BWA Monat“.
A39: Praxistipp | B39: Nie nur den Einzelmonat betrachten, sondern stets den kumulierten Wert seit Jahresbeginn und den Vorjahreszeitraum – so werden Saisoneffekte neutralisiert.
A40: Wichtig | B40: Excel ersetzt keine GoBD-konforme Buchhaltungssoftware. Belege und Festschreibungen gehören in die zertifizierte Finanzbuchhaltung.
A42: Häufige Interpretationsfehler
A43: Fehler | B43: Erläuterung
A44: Fehlende Bestandsveränderungen | B44: Eingekaufte, aber noch nicht verbrauchte Waren verfälschen ohne Korrektur die Rohertragsmarge des Monats drastisch.
A45: Gewinn ≠ Liquidität | B45: Das vorläufige Ergebnis ist keine Cashflow-Aussage: Tilgungen, Investitionen und USt-Zahllasten mindern das Bankguthaben, erscheinen aber nicht als Aufwand.
A46: Fehlende Personalrückstellungen | B46: Tantiemen, Sonderzahlungen und Urlaubsansprüche monatlich anteilig abgrenzen, um Ergebnissprünge im Dezember zu vermeiden.
...

Sheet Listen
A1: Monat | B1: Nr
A2: Januar | B2: 1
A3: Februar | B3: 2
A4: März | B4: 3
A5: April | B5: 4
A6: Mai | B6: 5
A7: Juni | B7: 6
A8: Juli | B8: 7
A9: August | B9: 8
A10: September | B10: 9
A11: Oktober | B11: 10
A12: November | B12: 11
A13: Dezember | B13: 12
